BEGIN:VCALENDAR
VERSION:2.0
PRODID:GIGPRESS 2.0 WORDPRESS PLUGIN
CALSCALE:GREGORIAN
X-WR-TIMEZONE:Etc/GMT
METHOD:PUBLISH
BEGIN:VTIMEZONE
TZID:GMT
BEGIN:STANDARD
DTSTART:20071028T010000
TZOFFSETTO:+0000
TZOFFSETFROM:+0000
END:STANDARD
END:VTIMEZONE
BEGIN:VEVENT
SUMMARY:Maroon 5 a Ippodromo SNAI La Maura
DESCRIPTION:
LOCATION:Ippodromo SNAI La Maura\, Milano\, IT
UID:20260625T190000Z-4659-allmusiclover@gmail.com
URL:https://www.rockshock.it/concerti
DTSTART;VALUE=DATE-TIME;TZID=GMT:20260625T190000Z
DTEND;VALUE=DATE-TIME;TZID=GMT:20260625T190000Z
DTSTAMP:20260422T013156Z
END:VEVENT
END:VCALENDAR