BEGIN:VCALENDAR
VERSION:2.0
PRODID:GIGPRESS 2.0 WORDPRESS PLUGIN
CALSCALE:GREGORIAN
X-WR-TIMEZONE:Etc/GMT
METHOD:PUBLISH
BEGIN:VTIMEZONE
TZID:GMT
BEGIN:STANDARD
DTSTART:20071028T010000
TZOFFSETTO:+0000
TZOFFSETFROM:+0000
END:STANDARD
END:VTIMEZONE
BEGIN:VEVENT
SUMMARY:Skunk Anansie a Piazza Matteotti
DESCRIPTION:
LOCATION:Piazza Matteotti\, Sogliano sul Rubicone (FC)\, IT
UID:20260722T190000Z-4648-allmusiclover@gmail.com
URL:https://www.rockshock.it/concerti
DTSTART;VALUE=DATE-TIME;TZID=GMT:20260722T190000Z
DTEND;VALUE=DATE-TIME;TZID=GMT:20260722T190000Z
DTSTAMP:20260422T013053Z
END:VEVENT
END:VCALENDAR