BEGIN:VCALENDAR
VERSION:2.0
X-WR-CALNAME: Ben Ottewell e James Walsh
PRODID:GIGPRESS 2.0 WORDPRESS PLUGIN
CALSCALE:GREGORIAN
X-WR-TIMEZONE:Etc/GMT
METHOD:PUBLISH
BEGIN:VTIMEZONE
TZID:GMT
BEGIN:STANDARD
DTSTART:20071028T010000
TZOFFSETTO:+0000
TZOFFSETFROM:+0000
END:STANDARD
END:VTIMEZONE
BEGIN:VEVENT
SUMMARY:Ben Ottewell e James Walsh a Spazio Comune dei Giardini Luzzati
DESCRIPTION:
LOCATION:Spazio Comune dei Giardini Luzzati\, Genova\, IT
UID:20261203T200000Z-4903-allmusiclover@gmail.com
URL:https://www.rockshock.it/concerti
DTSTART;VALUE=DATE-TIME;TZID=GMT:20261203T200000Z
DTEND;VALUE=DATE-TIME;TZID=GMT:20261203T200000Z
DTSTAMP:20260422T012648Z
END:VEVENT
BEGIN:VEVENT
SUMMARY:Ben Ottewell e James Walsh a Borgo Santa Brigida
DESCRIPTION:
LOCATION:Borgo Santa Brigida\, Parma\, IT
UID:20261204T200000Z-4904-allmusiclover@gmail.com
URL:https://www.rockshock.it/concerti
DTSTART;VALUE=DATE-TIME;TZID=GMT:20261204T200000Z
DTEND;VALUE=DATE-TIME;TZID=GMT:20261204T200000Z
DTSTAMP:20260422T012648Z
END:VEVENT
BEGIN:VEVENT
SUMMARY:Ben Ottewell e James Walsh a Revolution
DESCRIPTION:
LOCATION:Revolution\, Colceresa (VI)\, IT
UID:20261205T200000Z-4905-allmusiclover@gmail.com
URL:https://www.rockshock.it/concerti
DTSTART;VALUE=DATE-TIME;TZID=GMT:20261205T200000Z
DTEND;VALUE=DATE-TIME;TZID=GMT:20261205T200000Z
DTSTAMP:20260422T012648Z
END:VEVENT
BEGIN:VEVENT
SUMMARY:Ben Ottewell e James Walsh a Arci Bellezza
DESCRIPTION:
LOCATION:Arci Bellezza\, Milano\, IT
UID:20261206T200000Z-4906-allmusiclover@gmail.com
URL:https://www.rockshock.it/concerti
DTSTART;VALUE=DATE-TIME;TZID=GMT:20261206T200000Z
DTEND;VALUE=DATE-TIME;TZID=GMT:20261206T200000Z
DTSTAMP:20260422T012648Z
END:VEVENT
END:VCALENDAR