BEGIN:VCALENDAR
VERSION:2.0
X-WR-CALNAME: Chameleons
PRODID:GIGPRESS 2.0 WORDPRESS PLUGIN
CALSCALE:GREGORIAN
X-WR-TIMEZONE:Etc/GMT
METHOD:PUBLISH
BEGIN:VTIMEZONE
TZID:GMT
BEGIN:STANDARD
DTSTART:20071028T010000
TZOFFSETTO:+0000
TZOFFSETFROM:+0000
END:STANDARD
END:VTIMEZONE
BEGIN:VEVENT
SUMMARY:Chameleons a Largo
DESCRIPTION:
LOCATION:Largo\, Roma\, IT
UID:20261115T200000Z-4900-allmusiclover@gmail.com
URL:https://www.rockshock.it/concerti
DTSTART;VALUE=DATE-TIME;TZID=GMT:20261115T200000Z
DTEND;VALUE=DATE-TIME;TZID=GMT:20261115T200000Z
DTSTAMP:20260422T012636Z
END:VEVENT
BEGIN:VEVENT
SUMMARY:Chameleons a Locomotiv
DESCRIPTION:
LOCATION:Locomotiv\, Bologna\, IT
UID:20261116T200000Z-4901-allmusiclover@gmail.com
URL:https://www.rockshock.it/concerti
DTSTART;VALUE=DATE-TIME;TZID=GMT:20261116T200000Z
DTEND;VALUE=DATE-TIME;TZID=GMT:20261116T200000Z
DTSTAMP:20260422T012636Z
END:VEVENT
END:VCALENDAR