BEGIN:VCALENDAR
VERSION:2.0
X-WR-CALNAME: Sepultura
PRODID:GIGPRESS 2.0 WORDPRESS PLUGIN
CALSCALE:GREGORIAN
X-WR-TIMEZONE:Etc/GMT
METHOD:PUBLISH
BEGIN:VTIMEZONE
TZID:GMT
BEGIN:STANDARD
DTSTART:20071028T010000
TZOFFSETTO:+0000
TZOFFSETFROM:+0000
END:STANDARD
END:VTIMEZONE
BEGIN:VEVENT
SUMMARY:Sepultura a Circolo Magnolia
DESCRIPTION:
LOCATION:Circolo Magnolia\, Milano\, IT
UID:20260609T190000Z-4655-allmusiclover@gmail.com
URL:https://www.rockshock.it/concerti
DTSTART;VALUE=DATE-TIME;TZID=GMT:20260609T190000Z
DTEND;VALUE=DATE-TIME;TZID=GMT:20260609T190000Z
DTSTAMP:20260422T013617Z
END:VEVENT
BEGIN:VEVENT
SUMMARY:Sepultura a EUR Social Park
DESCRIPTION:
LOCATION:EUR Social Park\, Roma\, IT
UID:20260610T190000Z-4656-allmusiclover@gmail.com
URL:https://www.rockshock.it/concerti
DTSTART;VALUE=DATE-TIME;TZID=GMT:20260610T190000Z
DTEND;VALUE=DATE-TIME;TZID=GMT:20260610T190000Z
DTSTAMP:20260422T013617Z
END:VEVENT
END:VCALENDAR